BEGIN:VCALENDAR
VERSION:2.0
PRODID:icalendar-ruby
CALSCALE:GREGORIAN
METHOD:PUBLISH
BEGIN:VEVENT
DTSTAMP:20260421T171851Z
UID:ec3da44c-de27-4a1d-9eb8-e8a15df620bf
DTSTART:20260529T160000
DTEND:20260531T200000
DESCRIPTION:MTN Bushfire is a globally infused\, authentically African and 
 proudly Eswatini festival\, one of the continent’s largest multicultural
  gatherings\, celebrating the transformational power of the arts through o
 ur call to action for positive social and environmental change. Each year\
 , we welcome Fire Starters from over 60 countries for an energising and up
 lifting weekend featuring an eclectic programme of exceptional musical and
  artistic talent from across Africa and around the world. A conscious cele
 bration of unity in diversity and a powerful emblem of social inclusion\, 
 MTN Bushfire reflects the kind of world we all aspire to\, one where a glo
 bal community of change‑makers\, thought leaders and creative problem so
 lvers come together to celebrate the arts and take collective action again
 st discrimination\, environmental degradation and poverty.
LOCATION:MALANDELA'S FARM. PO BOX 93 MALKERNS\,M204\, ESWATINI
SUMMARY:MTN Bushfire 2026
URL;VALUE=URI:https://mtnbushfire.howler.co.za/bushfire26
END:VEVENT
END:VCALENDAR
